BEGIN:VCALENDAR
VERSION:2.0
PRODID:-//Musikverein Dieterskirch e.V. - ECPv6.15.17//NONSGML v1.0//EN
CALSCALE:GREGORIAN
METHOD:PUBLISH
X-WR-CALNAME:Musikverein Dieterskirch e.V.
X-ORIGINAL-URL:https://www.musikverein-dieterskirch.de
X-WR-CALDESC:Veranstaltungen für Musikverein Dieterskirch e.V.
REFRESH-INTERVAL;VALUE=DURATION:PT1H
X-Robots-Tag:noindex
X-PUBLISHED-TTL:PT1H
BEGIN:VTIMEZONE
TZID:Europe/Helsinki
BEGIN:DAYLIGHT
TZOFFSETFROM:+0200
TZOFFSETTO:+0300
TZNAME:EEST
DTSTART:20250330T010000
END:DAYLIGHT
BEGIN:STANDARD
TZOFFSETFROM:+0300
TZOFFSETTO:+0200
TZNAME:EET
DTSTART:20251026T010000
END:STANDARD
BEGIN:DAYLIGHT
TZOFFSETFROM:+0200
TZOFFSETTO:+0300
TZNAME:EEST
DTSTART:20260329T010000
END:DAYLIGHT
BEGIN:STANDARD
TZOFFSETFROM:+0300
TZOFFSETTO:+0200
TZNAME:EET
DTSTART:20261025T010000
END:STANDARD
BEGIN:DAYLIGHT
TZOFFSETFROM:+0200
TZOFFSETTO:+0300
TZNAME:EEST
DTSTART:20270328T010000
END:DAYLIGHT
BEGIN:STANDARD
TZOFFSETFROM:+0300
TZOFFSETTO:+0200
TZNAME:EET
DTSTART:20271031T010000
END:STANDARD
END:VTIMEZONE
BEGIN:VEVENT
DTSTART;TZID=Europe/Helsinki:20260502T180000
DTEND;TZID=Europe/Helsinki:20260502T220000
DTSTAMP:20260420T181529
CREATED:20260304T184839Z
LAST-MODIFIED:20260304T184839Z
UID:4228-1777744800-1777759200@www.musikverein-dieterskirch.de
SUMMARY:Unterhaltungsauftritt Ersingen
DESCRIPTION:
URL:https://www.musikverein-dieterskirch.de/event/unterhaltungsauftritt-ersingen/
END:VEVENT
BEGIN:VEVENT
DTSTART;TZID=Europe/Helsinki:20260604T050000
DTEND;TZID=Europe/Helsinki:20260604T120000
DTSTAMP:20260420T181529
CREATED:20260304T184942Z
LAST-MODIFIED:20260304T184942Z
UID:4230-1780549200-1780574400@www.musikverein-dieterskirch.de
SUMMARY:Fronleichnam
DESCRIPTION:
URL:https://www.musikverein-dieterskirch.de/event/fronleichnam/
LOCATION:Pfarrkirche St. Ursula\, Sebastian-Sailer-Straße 2\, Dieterskirch\, 88524\, Germany
END:VEVENT
BEGIN:VEVENT
DTSTART;TZID=Europe/Helsinki:20260607T100000
DTEND;TZID=Europe/Helsinki:20260607T140000
DTSTAMP:20260420T181529
CREATED:20260304T185023Z
LAST-MODIFIED:20260304T185023Z
UID:4232-1780826400-1780840800@www.musikverein-dieterskirch.de
SUMMARY:Frühschoppen Moosheim
DESCRIPTION:
URL:https://www.musikverein-dieterskirch.de/event/fruehschoppen-moosheim/
END:VEVENT
BEGIN:VEVENT
DTSTART;TZID=Europe/Helsinki:20260612T193000
DTEND;TZID=Europe/Helsinki:20260612T230000
DTSTAMP:20260420T181529
CREATED:20260304T185257Z
LAST-MODIFIED:20260304T185257Z
UID:4237-1781292600-1781305200@www.musikverein-dieterskirch.de
SUMMARY:Festabend 1200 Jahre Dieterskirch
DESCRIPTION:
URL:https://www.musikverein-dieterskirch.de/event/festabend-1200-jahre-dieterskirch/
LOCATION:Mühlbachhalle Dieterskirch\, Mühlbachstraße 8\, Dieterskirch\, 88524\, Germany
END:VEVENT
BEGIN:VEVENT
DTSTART;VALUE=DATE:20260614
DTEND;VALUE=DATE:20260615
DTSTAMP:20260420T181529
CREATED:20260304T185439Z
LAST-MODIFIED:20260304T185439Z
UID:4239-1781395200-1781481599@www.musikverein-dieterskirch.de
SUMMARY:Tag des Dorfes 1200 Jahre Dieterskirch
DESCRIPTION:
URL:https://www.musikverein-dieterskirch.de/event/tag-des-dorfes-1200-jahre-dieterskirch/
LOCATION:Festplatz Dieterskirch\, Schulstraße\, Dieterskirch\, 88524\, Germany
END:VEVENT
BEGIN:VEVENT
DTSTART;TZID=Europe/Helsinki:20260626T183000
DTEND;TZID=Europe/Helsinki:20260626T223000
DTSTAMP:20260420T181529
CREATED:20260304T185621Z
LAST-MODIFIED:20260304T185621Z
UID:4244-1782498600-1782513000@www.musikverein-dieterskirch.de
SUMMARY:Abendunterhaltung im Biergarten der Berg-Bier-Brauerei
DESCRIPTION:
URL:https://www.musikverein-dieterskirch.de/event/abendunterhaltung-im-biergarten-der-berg-bier-brauerei/
LOCATION:Berg Brauerei\, Graf-Konrad-Straße 21\, Ehingen-Berg\, 89584\, Germany
END:VEVENT
BEGIN:VEVENT
DTSTART;TZID=Europe/Helsinki:20260712T103000
DTEND;TZID=Europe/Helsinki:20260712T130000
DTSTAMP:20260420T181529
CREATED:20260304T185651Z
LAST-MODIFIED:20260304T185651Z
UID:4246-1783852200-1783861200@www.musikverein-dieterskirch.de
SUMMARY:Frühschoppen Unterschwarzach
DESCRIPTION:
URL:https://www.musikverein-dieterskirch.de/event/fruehschoppen-unterschwarzach/
END:VEVENT
BEGIN:VEVENT
DTSTART;TZID=Europe/Helsinki:20260718T180000
DTEND;TZID=Europe/Helsinki:20260718T230000
DTSTAMP:20260420T181529
CREATED:20260304T185937Z
LAST-MODIFIED:20260304T185937Z
UID:4250-1784397600-1784415600@www.musikverein-dieterskirch.de
SUMMARY:Abendunterhaltung Bavendorf
DESCRIPTION:
URL:https://www.musikverein-dieterskirch.de/event/abendunterhaltung-bavendorf/
LOCATION:Bavendorf\, Bavendorf\, 88213\, Germany
END:VEVENT
BEGIN:VEVENT
DTSTART;VALUE=DATE:20260801
DTEND;VALUE=DATE:20260803
DTSTAMP:20260420T181529
CREATED:20260304T190015Z
LAST-MODIFIED:20260304T190015Z
UID:4252-1785542400-1785715199@www.musikverein-dieterskirch.de
SUMMARY:Gartenfest
DESCRIPTION:
URL:https://www.musikverein-dieterskirch.de/event/gartenfest/
LOCATION:Festplatz Dieterskirch\, Schulstraße\, Dieterskirch\, 88524\, Germany
END:VEVENT
BEGIN:VEVENT
DTSTART;TZID=Europe/Helsinki:20261004T100000
DTEND;TZID=Europe/Helsinki:20261004T140000
DTSTAMP:20260420T181529
CREATED:20260304T190222Z
LAST-MODIFIED:20260304T190222Z
UID:4257-1791108000-1791122400@www.musikverein-dieterskirch.de
SUMMARY:Frühschoppen Metzelsuppe Dieterskirch
DESCRIPTION:
URL:https://www.musikverein-dieterskirch.de/event/fruehschoppen-metzelsuppe-dieterskirch/
LOCATION:Mühlbachhalle Dieterskirch\, Mühlbachstraße 8\, Dieterskirch\, 88524\, Germany
END:VEVENT
BEGIN:VEVENT
DTSTART;TZID=Europe/Helsinki:20261018T100000
DTEND;TZID=Europe/Helsinki:20261018T140000
DTSTAMP:20260420T181529
CREATED:20260304T190249Z
LAST-MODIFIED:20260304T190249Z
UID:4259-1792317600-1792332000@www.musikverein-dieterskirch.de
SUMMARY:Unterhaltungsauftritt Baltringen
DESCRIPTION:
URL:https://www.musikverein-dieterskirch.de/event/unterhaltungsauftritt-baltringen/
END:VEVENT
BEGIN:VEVENT
DTSTART;TZID=Europe/Helsinki:20261128T190000
DTEND;TZID=Europe/Helsinki:20261128T203000
DTSTAMP:20260420T181529
CREATED:20260304T190325Z
LAST-MODIFIED:20260304T190325Z
UID:4261-1795892400-1795897800@www.musikverein-dieterskirch.de
SUMMARY:Adventsgottesdienst
DESCRIPTION:
URL:https://www.musikverein-dieterskirch.de/event/adventsgottesdienst/
LOCATION:Pfarrkirche St. Ursula\, Sebastian-Sailer-Straße 2\, Dieterskirch\, 88524\, Germany
END:VEVENT
END:VCALENDAR