BEGIN:VCALENDAR
VERSION:2.0
PRODID:-//Musikverein Dieterskirch e.V. - ECPv6.15.17//NONSGML v1.0//EN
CALSCALE:GREGORIAN
METHOD:PUBLISH
X-ORIGINAL-URL:http://www.musikverein-dieterskirch.de
X-WR-CALDESC:Veranstaltungen für Musikverein Dieterskirch e.V.
REFRESH-INTERVAL;VALUE=DURATION:PT1H
X-Robots-Tag:noindex
X-PUBLISHED-TTL:PT1H
BEGIN:VTIMEZONE
TZID:Europe/Helsinki
BEGIN:DAYLIGHT
TZOFFSETFROM:+0200
TZOFFSETTO:+0300
TZNAME:EEST
DTSTART:20250330T010000
END:DAYLIGHT
BEGIN:STANDARD
TZOFFSETFROM:+0300
TZOFFSETTO:+0200
TZNAME:EET
DTSTART:20251026T010000
END:STANDARD
BEGIN:DAYLIGHT
TZOFFSETFROM:+0200
TZOFFSETTO:+0300
TZNAME:EEST
DTSTART:20260329T010000
END:DAYLIGHT
BEGIN:STANDARD
TZOFFSETFROM:+0300
TZOFFSETTO:+0200
TZNAME:EET
DTSTART:20261025T010000
END:STANDARD
BEGIN:DAYLIGHT
TZOFFSETFROM:+0200
TZOFFSETTO:+0300
TZNAME:EEST
DTSTART:20270328T010000
END:DAYLIGHT
BEGIN:STANDARD
TZOFFSETFROM:+0300
TZOFFSETTO:+0200
TZNAME:EET
DTSTART:20271031T010000
END:STANDARD
END:VTIMEZONE
BEGIN:VEVENT
DTSTART;TZID=Europe/Helsinki:20260604T050000
DTEND;TZID=Europe/Helsinki:20260604T120000
DTSTAMP:20260420T233921
CREATED:20260304T184942Z
LAST-MODIFIED:20260304T184942Z
UID:4230-1780549200-1780574400@www.musikverein-dieterskirch.de
SUMMARY:Fronleichnam
DESCRIPTION:
URL:http://www.musikverein-dieterskirch.de/event/fronleichnam/
LOCATION:Pfarrkirche St. Ursula\, Sebastian-Sailer-Straße 2\, Dieterskirch\, 88524\, Germany
END:VEVENT
BEGIN:VEVENT
DTSTART;TZID=Europe/Helsinki:20260607T100000
DTEND;TZID=Europe/Helsinki:20260607T140000
DTSTAMP:20260420T233921
CREATED:20260304T185023Z
LAST-MODIFIED:20260304T185023Z
UID:4232-1780826400-1780840800@www.musikverein-dieterskirch.de
SUMMARY:Frühschoppen Moosheim
DESCRIPTION:
URL:http://www.musikverein-dieterskirch.de/event/fruehschoppen-moosheim/
END:VEVENT
BEGIN:VEVENT
DTSTART;TZID=Europe/Helsinki:20260612T193000
DTEND;TZID=Europe/Helsinki:20260612T230000
DTSTAMP:20260420T233921
CREATED:20260304T185257Z
LAST-MODIFIED:20260304T185257Z
UID:4237-1781292600-1781305200@www.musikverein-dieterskirch.de
SUMMARY:Festabend 1200 Jahre Dieterskirch
DESCRIPTION:
URL:http://www.musikverein-dieterskirch.de/event/festabend-1200-jahre-dieterskirch/
LOCATION:Mühlbachhalle Dieterskirch\, Mühlbachstraße 8\, Dieterskirch\, 88524\, Germany
END:VEVENT
BEGIN:VEVENT
DTSTART;VALUE=DATE:20260614
DTEND;VALUE=DATE:20260615
DTSTAMP:20260420T233921
CREATED:20260304T185439Z
LAST-MODIFIED:20260304T185439Z
UID:4239-1781395200-1781481599@www.musikverein-dieterskirch.de
SUMMARY:Tag des Dorfes 1200 Jahre Dieterskirch
DESCRIPTION:
URL:http://www.musikverein-dieterskirch.de/event/tag-des-dorfes-1200-jahre-dieterskirch/
LOCATION:Festplatz Dieterskirch\, Schulstraße\, Dieterskirch\, 88524\, Germany
END:VEVENT
BEGIN:VEVENT
DTSTART;TZID=Europe/Helsinki:20260626T183000
DTEND;TZID=Europe/Helsinki:20260626T223000
DTSTAMP:20260420T233921
CREATED:20260304T185621Z
LAST-MODIFIED:20260304T185621Z
UID:4244-1782498600-1782513000@www.musikverein-dieterskirch.de
SUMMARY:Abendunterhaltung im Biergarten der Berg-Bier-Brauerei
DESCRIPTION:
URL:http://www.musikverein-dieterskirch.de/event/abendunterhaltung-im-biergarten-der-berg-bier-brauerei/
LOCATION:Berg Brauerei\, Graf-Konrad-Straße 21\, Ehingen-Berg\, 89584\, Germany
END:VEVENT
END:VCALENDAR