BEGIN:VCALENDAR
VERSION:2.0
PRODID:-//Musikverein Dieterskirch e.V. - ECPv6.15.17//NONSGML v1.0//EN
CALSCALE:GREGORIAN
METHOD:PUBLISH
X-ORIGINAL-URL:http://www.musikverein-dieterskirch.de
X-WR-CALDESC:Veranstaltungen für Musikverein Dieterskirch e.V.
REFRESH-INTERVAL;VALUE=DURATION:PT1H
X-Robots-Tag:noindex
X-PUBLISHED-TTL:PT1H
BEGIN:VTIMEZONE
TZID:Europe/Helsinki
BEGIN:DAYLIGHT
TZOFFSETFROM:+0200
TZOFFSETTO:+0300
TZNAME:EEST
DTSTART:20250330T010000
END:DAYLIGHT
BEGIN:STANDARD
TZOFFSETFROM:+0300
TZOFFSETTO:+0200
TZNAME:EET
DTSTART:20251026T010000
END:STANDARD
BEGIN:DAYLIGHT
TZOFFSETFROM:+0200
TZOFFSETTO:+0300
TZNAME:EEST
DTSTART:20260329T010000
END:DAYLIGHT
BEGIN:STANDARD
TZOFFSETFROM:+0300
TZOFFSETTO:+0200
TZNAME:EET
DTSTART:20261025T010000
END:STANDARD
BEGIN:DAYLIGHT
TZOFFSETFROM:+0200
TZOFFSETTO:+0300
TZNAME:EEST
DTSTART:20270328T010000
END:DAYLIGHT
BEGIN:STANDARD
TZOFFSETFROM:+0300
TZOFFSETTO:+0200
TZNAME:EET
DTSTART:20271031T010000
END:STANDARD
END:VTIMEZONE
BEGIN:VEVENT
DTSTART;TZID=Europe/Helsinki:20260329T193000
DTEND;TZID=Europe/Helsinki:20260329T223000
DTSTAMP:20260420T220633
CREATED:20260304T184039Z
LAST-MODIFIED:20260304T190713Z
UID:4215-1774812600-1774823400@www.musikverein-dieterskirch.de
SUMMARY:Palmsonntagskonzert 2026
DESCRIPTION:
URL:http://www.musikverein-dieterskirch.de/event/palmsonntagskonzert-2026/
LOCATION:Turn- und Festhalle Uttenweiler\, Sailerstraße 18\, Uttenweiler\, 88524\, Germany
ATTACH;FMTTYPE=image/jpeg:http://www.musikverein-dieterskirch.de/wp-content/uploads/konzert_2026_flyer.jpeg
ORGANIZER;CN="MV Dieterskirch e.V.":MAILTO:info@musikverein-dieterskirch.de
END:VEVENT
END:VCALENDAR